BEGIN:VCALENDAR
VERSION:2.0
PRODID:-//Brevard Schools Foundation | FL - ECPv6.15.20//NONSGML v1.0//EN
CALSCALE:GREGORIAN
METHOD:PUBLISH
X-ORIGINAL-URL:https://brevardschoolsfoundation.org
X-WR-CALDESC:Events for Brevard Schools Foundation | FL
REFRESH-INTERVAL;VALUE=DURATION:PT1H
X-Robots-Tag:noindex
X-PUBLISHED-TTL:PT1H
BEGIN:VTIMEZONE
TZID:America/New_York
BEGIN:DAYLIGHT
TZOFFSETFROM:-0500
TZOFFSETTO:-0400
TZNAME:EDT
DTSTART:20250309T070000
END:DAYLIGHT
BEGIN:STANDARD
TZOFFSETFROM:-0400
TZOFFSETTO:-0500
TZNAME:EST
DTSTART:20251102T060000
END:STANDARD
BEGIN:DAYLIGHT
TZOFFSETFROM:-0500
TZOFFSETTO:-0400
TZNAME:EDT
DTSTART:20260308T070000
END:DAYLIGHT
BEGIN:STANDARD
TZOFFSETFROM:-0400
TZOFFSETTO:-0500
TZNAME:EST
DTSTART:20261101T060000
END:STANDARD
BEGIN:DAYLIGHT
TZOFFSETFROM:-0500
TZOFFSETTO:-0400
TZNAME:EDT
DTSTART:20270314T070000
END:DAYLIGHT
BEGIN:STANDARD
TZOFFSETFROM:-0400
TZOFFSETTO:-0500
TZNAME:EST
DTSTART:20271107T060000
END:STANDARD
END:VTIMEZONE
BEGIN:VEVENT
DTSTART;TZID=America/New_York:20260429T120000
DTEND;TZID=America/New_York:20260429T130000
DTSTAMP:20260424T031514
CREATED:20260422T153739Z
LAST-MODIFIED:20260422T153745Z
UID:10574-1777464000-1777467600@brevardschoolsfoundation.org
SUMMARY:2026 Champions for Education Luncheon
DESCRIPTION:Brevard Schools Foundation invites community leaders and education advocates to the 2026 Champions for Education Luncheon\, an inspiring\, invitation-only event dedicated to supporting students and teachers across Brevard Public Schools. \nTheme: Champions in Action\nDate: Wednesday\, April 29\, 2026\nTime: 12:00 PM – 1:00 PM\nLocation: Hilton Melbourne Rialto Place\, 200 Rialto Place\, Melbourne\, FL 32901 \nThis one-hour inspirational program and fundraiser highlights how community support helps fill educational funding and opportunity gaps for students and classrooms. Guests will experience meaningful stories\, student-centered moments\, and a shared commitment to ensuring every student has the resources needed to succeed. \nLunch will be provided. This is an invitation-only event. \nFor more information or to request an invitation\, please contact:\nNina Moser Warrick\nDirector of Development\n(321) 633-1000 ext. 11454\nwarrick.nina@brevardschools.org
URL:https://brevardschoolsfoundation.org/event/2026-champions-for-education-luncheon
LOCATION:Hilton Melbourne Rialto Place\, 200 Rialto Place\, Melbourne\, FL\, 32901\, United States
CATEGORIES:Featured Events,Launch to Success
ATTACH;FMTTYPE=image/png:https://brevardschoolsfoundation.org/wp-content/uploads/2026/04/brevard-schools-foundation-2026-champions-for-education-luncheon-featured-image.png.png
ORGANIZER;CN="Nina Moser":MAILTO:warrick.nina@brevardschools.org
END:VEVENT
END:VCALENDAR