BEGIN:VCALENDAR
VERSION:2.0
PRODID:-//Brevard Schools Foundation | FL - ECPv6.15.20//NONSGML v1.0//EN
CALSCALE:GREGORIAN
METHOD:PUBLISH
X-ORIGINAL-URL:https://brevardschoolsfoundation.org
X-WR-CALDESC:Events for Brevard Schools Foundation | FL
REFRESH-INTERVAL;VALUE=DURATION:PT1H
X-Robots-Tag:noindex
X-PUBLISHED-TTL:PT1H
BEGIN:VTIMEZONE
TZID:America/New_York
BEGIN:DAYLIGHT
TZOFFSETFROM:-0500
TZOFFSETTO:-0400
TZNAME:EDT
DTSTART:20170312T070000
END:DAYLIGHT
BEGIN:STANDARD
TZOFFSETFROM:-0400
TZOFFSETTO:-0500
TZNAME:EST
DTSTART:20171105T060000
END:STANDARD
BEGIN:DAYLIGHT
TZOFFSETFROM:-0500
TZOFFSETTO:-0400
TZNAME:EDT
DTSTART:20180311T070000
END:DAYLIGHT
BEGIN:STANDARD
TZOFFSETFROM:-0400
TZOFFSETTO:-0500
TZNAME:EST
DTSTART:20181104T060000
END:STANDARD
BEGIN:DAYLIGHT
TZOFFSETFROM:-0500
TZOFFSETTO:-0400
TZNAME:EDT
DTSTART:20190310T070000
END:DAYLIGHT
BEGIN:STANDARD
TZOFFSETFROM:-0400
TZOFFSETTO:-0500
TZNAME:EST
DTSTART:20191103T060000
END:STANDARD
BEGIN:DAYLIGHT
TZOFFSETFROM:-0500
TZOFFSETTO:-0400
TZNAME:EDT
DTSTART:20200308T070000
END:DAYLIGHT
BEGIN:STANDARD
TZOFFSETFROM:-0400
TZOFFSETTO:-0500
TZNAME:EST
DTSTART:20201101T060000
END:STANDARD
BEGIN:DAYLIGHT
TZOFFSETFROM:-0500
TZOFFSETTO:-0400
TZNAME:EDT
DTSTART:20210314T070000
END:DAYLIGHT
BEGIN:STANDARD
TZOFFSETFROM:-0400
TZOFFSETTO:-0500
TZNAME:EST
DTSTART:20211107T060000
END:STANDARD
BEGIN:DAYLIGHT
TZOFFSETFROM:-0500
TZOFFSETTO:-0400
TZNAME:EDT
DTSTART:20220313T070000
END:DAYLIGHT
BEGIN:STANDARD
TZOFFSETFROM:-0400
TZOFFSETTO:-0500
TZNAME:EST
DTSTART:20221106T060000
END:STANDARD
BEGIN:DAYLIGHT
TZOFFSETFROM:-0500
TZOFFSETTO:-0400
TZNAME:EDT
DTSTART:20230312T070000
END:DAYLIGHT
BEGIN:STANDARD
TZOFFSETFROM:-0400
TZOFFSETTO:-0500
TZNAME:EST
DTSTART:20231105T060000
END:STANDARD
BEGIN:DAYLIGHT
TZOFFSETFROM:-0500
TZOFFSETTO:-0400
TZNAME:EDT
DTSTART:20240310T070000
END:DAYLIGHT
BEGIN:STANDARD
TZOFFSETFROM:-0400
TZOFFSETTO:-0500
TZNAME:EST
DTSTART:20241103T060000
END:STANDARD
BEGIN:DAYLIGHT
TZOFFSETFROM:-0500
TZOFFSETTO:-0400
TZNAME:EDT
DTSTART:20250309T070000
END:DAYLIGHT
BEGIN:STANDARD
TZOFFSETFROM:-0400
TZOFFSETTO:-0500
TZNAME:EST
DTSTART:20251102T060000
END:STANDARD
BEGIN:DAYLIGHT
TZOFFSETFROM:-0500
TZOFFSETTO:-0400
TZNAME:EDT
DTSTART:20260308T070000
END:DAYLIGHT
BEGIN:STANDARD
TZOFFSETFROM:-0400
TZOFFSETTO:-0500
TZNAME:EST
DTSTART:20261101T060000
END:STANDARD
BEGIN:DAYLIGHT
TZOFFSETFROM:-0500
TZOFFSETTO:-0400
TZNAME:EDT
DTSTART:20270314T070000
END:DAYLIGHT
BEGIN:STANDARD
TZOFFSETFROM:-0400
TZOFFSETTO:-0500
TZNAME:EST
DTSTART:20271107T060000
END:STANDARD
END:VTIMEZONE
BEGIN:VEVENT
DTSTART;TZID=America/New_York:20180530T083000
DTEND;TZID=America/New_York:20180530T093000
DTSTAMP:20260425T122747
CREATED:20180529T123923Z
LAST-MODIFIED:20180529T123923Z
UID:4841-1527669000-1527672600@brevardschoolsfoundation.org
SUMMARY:Launch to Success
DESCRIPTION:Launch to Success tours take guests on a journey through the Brevard Schools Foundation Mission and help them discover how we make a difference for Brevard Public Schools’ teachers and students. \nEach mission briefing lasts approximately one hour\, and refreshments are included. \nGuests will hear directly from the people who work in our key programs as well as understand how the Brevard Schools Foundation is: \nSupporting Innovation\, Engaging Communities\, and Changing Lives \nLaunch to Success tours require an RSVP to Linda Filippini\, programs and development assistant.  You may reach her at 321-633-1000 ext. 454 or via email at filippini.linda@brevardschools.org \nMay 30\, 2018 8:30am– 9:30am –School Board Building\, Facilities Conference Room \n*Visitors will check in with the front desk\, please bring your ID \n 
URL:https://brevardschoolsfoundation.org/event/launch-to-success
LOCATION:FL
CATEGORIES:Launch to Success
END:VEVENT
BEGIN:VEVENT
DTSTART;TZID=America/New_York:20180606T083000
DTEND;TZID=America/New_York:20180606T093000
DTSTAMP:20260425T122747
CREATED:20180409T122441Z
LAST-MODIFIED:20180409T122441Z
UID:4693-1528273800-1528277400@brevardschoolsfoundation.org
SUMMARY:Launch to Success Tour
DESCRIPTION:Launch to Success tours take guests on a journey through the Brevard Schools Foundation Mission and help them discover how we make a difference for Brevard Public Schools’ teachers and students. \nEach mission briefing lasts approximately one hour\, and refreshments are included. \nGuests will hear directly from the people who work in our key programs as well as understand how the Brevard Schools Foundation is: \nSupporting Innovation\, Engaging Communities\, and Changing Lives \nLaunch to Success tours require an RSVP to Linda Filippini\, programs and development assistant.  You may reach her at 321-633-1000 ext. 454 or via email at filippini.linda@brevardschools.org \nJune 6\, 2018 8:30am– 9:30am – Merritt Island High School Media Center – 100 East Mustang Way Merritt Island\, FL 32953 \n*Visitors will check in with the front office\, please bring your ID
URL:https://brevardschoolsfoundation.org/event/launch-to-success-tour
LOCATION:Merritt Island High School\, 100 E. Mustang Way\, Merritt Island\, FL\, 32953\, United States
CATEGORIES:Launch to Success
GEO:28.378445;-80.699996
X-APPLE-STRUCTURED-LOCATION;VALUE=URI;X-ADDRESS=Merritt Island High School 100 E. Mustang Way Merritt Island FL 32953 United States;X-APPLE-RADIUS=500;X-TITLE=100 E. Mustang Way:geo:-80.699996,28.378445
END:VEVENT
BEGIN:VEVENT
DTSTART;TZID=America/New_York:20181128T160000
DTEND;TZID=America/New_York:20181128T170000
DTSTAMP:20260425T122747
CREATED:20180605T185150Z
LAST-MODIFIED:20181108T201534Z
UID:4844-1543420800-1543424400@brevardschoolsfoundation.org
SUMMARY:Launch to Success Tour
DESCRIPTION:Launch to Success tours take guests on a journey through the Brevard Schools Foundation Mission and help them discover how we make a difference for Brevard Public Schools’ teachers and students. \nEach mission briefing lasts approximately one hour\, and refreshments are included. \nGuests will hear directly from the people who work in our key programs as well as understand how the Brevard Schools Foundation is: \nSupporting Innovation\, Engaging Communities\, and Changing Lives \nLaunch to Success tours require an RSVP to Katherine Allen\, Community Engagement and Marketing Manager.  You may reach her at 321-633-1000 ext. 474 or via email at allen.katherine@brevardschools.org \nNov. 28\, 4:00 pm– 5:00 pm – Supply Zone for Teachers 1225 Clearlake Rd. Cocoa\, FL 32922 – Hosted by Rich Miller
URL:https://brevardschoolsfoundation.org/event/launch-to-success-tour-3
LOCATION:The Supply Zone for Teachers\, 1225 Clearlake Road\, Cocoa\, FL\, 32922\, United States
CATEGORIES:Launch to Success
GEO:28.375689;-80.757172
X-APPLE-STRUCTURED-LOCATION;VALUE=URI;X-ADDRESS=The Supply Zone for Teachers 1225 Clearlake Road Cocoa FL 32922 United States;X-APPLE-RADIUS=500;X-TITLE=1225 Clearlake Road:geo:-80.757172,28.375689
END:VEVENT
BEGIN:VEVENT
DTSTART;TZID=America/New_York:20260429T120000
DTEND;TZID=America/New_York:20260429T130000
DTSTAMP:20260425T122747
CREATED:20260422T153739Z
LAST-MODIFIED:20260422T153745Z
UID:10574-1777464000-1777467600@brevardschoolsfoundation.org
SUMMARY:2026 Champions for Education Luncheon
DESCRIPTION:Brevard Schools Foundation invites community leaders and education advocates to the 2026 Champions for Education Luncheon\, an inspiring\, invitation-only event dedicated to supporting students and teachers across Brevard Public Schools. \nTheme: Champions in Action\nDate: Wednesday\, April 29\, 2026\nTime: 12:00 PM – 1:00 PM\nLocation: Hilton Melbourne Rialto Place\, 200 Rialto Place\, Melbourne\, FL 32901 \nThis one-hour inspirational program and fundraiser highlights how community support helps fill educational funding and opportunity gaps for students and classrooms. Guests will experience meaningful stories\, student-centered moments\, and a shared commitment to ensuring every student has the resources needed to succeed. \nLunch will be provided. This is an invitation-only event. \nFor more information or to request an invitation\, please contact:\nNina Moser Warrick\nDirector of Development\n(321) 633-1000 ext. 11454\nwarrick.nina@brevardschools.org
URL:https://brevardschoolsfoundation.org/event/2026-champions-for-education-luncheon
LOCATION:Hilton Melbourne Rialto Place\, 200 Rialto Place\, Melbourne\, FL\, 32901\, United States
CATEGORIES:Featured Events,Launch to Success
ATTACH;FMTTYPE=image/png:https://brevardschoolsfoundation.org/wp-content/uploads/2026/04/brevard-schools-foundation-2026-champions-for-education-luncheon-featured-image.png.png
ORGANIZER;CN="Nina Moser":MAILTO:warrick.nina@brevardschools.org
END:VEVENT
END:VCALENDAR