BEGIN:VCALENDAR
VERSION:2.0
PRODID:-//Brevard Schools Foundation | FL - ECPv6.15.20//NONSGML v1.0//EN
CALSCALE:GREGORIAN
METHOD:PUBLISH
X-ORIGINAL-URL:https://brevardschoolsfoundation.org
X-WR-CALDESC:Events for Brevard Schools Foundation | FL
REFRESH-INTERVAL;VALUE=DURATION:PT1H
X-Robots-Tag:noindex
X-PUBLISHED-TTL:PT1H
BEGIN:VTIMEZONE
TZID:America/New_York
BEGIN:DAYLIGHT
TZOFFSETFROM:-0500
TZOFFSETTO:-0400
TZNAME:EDT
DTSTART:20160313T070000
END:DAYLIGHT
BEGIN:STANDARD
TZOFFSETFROM:-0400
TZOFFSETTO:-0500
TZNAME:EST
DTSTART:20161106T060000
END:STANDARD
BEGIN:DAYLIGHT
TZOFFSETFROM:-0500
TZOFFSETTO:-0400
TZNAME:EDT
DTSTART:20170312T070000
END:DAYLIGHT
BEGIN:STANDARD
TZOFFSETFROM:-0400
TZOFFSETTO:-0500
TZNAME:EST
DTSTART:20171105T060000
END:STANDARD
BEGIN:DAYLIGHT
TZOFFSETFROM:-0500
TZOFFSETTO:-0400
TZNAME:EDT
DTSTART:20180311T070000
END:DAYLIGHT
BEGIN:STANDARD
TZOFFSETFROM:-0400
TZOFFSETTO:-0500
TZNAME:EST
DTSTART:20181104T060000
END:STANDARD
END:VTIMEZONE
BEGIN:VEVENT
DTSTART;TZID=America/New_York:20170301T083000
DTEND;TZID=America/New_York:20170301T093000
DTSTAMP:20260424T071721
CREATED:20170202T211454Z
LAST-MODIFIED:20170221T165721Z
UID:3482-1488357000-1488360600@brevardschoolsfoundation.org
SUMMARY:Launch to Success Tour
DESCRIPTION:Launch to Success tours take guests on a journey through the Brevard Schools Foundation Mission and help them discover how we make a difference for Brevard Public Schools’ teachers and students. \nEach mission briefing lasts approximately one hour\, and refreshments are included. \nGuests will hear directly from the people who work in our key programs as well as understand how the Brevard Schools Foundation is: \nSupporting Innovation\, Engaging Communities\, and Changing Lives \nLaunch to Success tours require an RSVP to Linda Filippini\, programs and development assistant.  You may reach her at 321-633-1000 ext. 454 or via email at filippini.linda@brevardschools.org \nThe next series of tours are as follows: \nMarch 1\, 2017 8:30 am – 9:30 am – The Supply Zone for Teachers\, Clearlake Education Center – Hosted by Janice Kershaw \nMarch 16\, 2017 8:30 am – 9:30 am – Brevard School Board Building\, Facilities Conference Room – Hosted by Kelly Swartz \nMarch 21\, 2017 4:00 pm – 5:00 pm – Brevard School Board Building\, Facilities Conference Room – Hosted by Linda Filippini
URL:https://brevardschoolsfoundation.org/event/launch-success-tour
LOCATION:The Supply Zone for Teachers\, 1225 Clearlake Road\, Cocoa\, FL\, 32922\, United States
CATEGORIES:Launch to Success
GEO:28.375689;-80.757172
X-APPLE-STRUCTURED-LOCATION;VALUE=URI;X-ADDRESS=The Supply Zone for Teachers 1225 Clearlake Road Cocoa FL 32922 United States;X-APPLE-RADIUS=500;X-TITLE=1225 Clearlake Road:geo:-80.757172,28.375689
END:VEVENT
END:VCALENDAR