BEGIN:VCALENDAR
VERSION:2.0
PRODID:-//Brevard Schools Foundation | FL - ECPv6.15.20//NONSGML v1.0//EN
CALSCALE:GREGORIAN
METHOD:PUBLISH
X-WR-CALNAME:Brevard Schools Foundation | FL
X-ORIGINAL-URL:https://brevardschoolsfoundation.org
X-WR-CALDESC:Events for Brevard Schools Foundation | FL
REFRESH-INTERVAL;VALUE=DURATION:PT1H
X-Robots-Tag:noindex
X-PUBLISHED-TTL:PT1H
BEGIN:VTIMEZONE
TZID:America/New_York
BEGIN:DAYLIGHT
TZOFFSETFROM:-0500
TZOFFSETTO:-0400
TZNAME:EDT
DTSTART:20160313T070000
END:DAYLIGHT
BEGIN:STANDARD
TZOFFSETFROM:-0400
TZOFFSETTO:-0500
TZNAME:EST
DTSTART:20161106T060000
END:STANDARD
BEGIN:DAYLIGHT
TZOFFSETFROM:-0500
TZOFFSETTO:-0400
TZNAME:EDT
DTSTART:20170312T070000
END:DAYLIGHT
BEGIN:STANDARD
TZOFFSETFROM:-0400
TZOFFSETTO:-0500
TZNAME:EST
DTSTART:20171105T060000
END:STANDARD
BEGIN:DAYLIGHT
TZOFFSETFROM:-0500
TZOFFSETTO:-0400
TZNAME:EDT
DTSTART:20180311T070000
END:DAYLIGHT
BEGIN:STANDARD
TZOFFSETFROM:-0400
TZOFFSETTO:-0500
TZNAME:EST
DTSTART:20181104T060000
END:STANDARD
END:VTIMEZONE
BEGIN:VEVENT
DTSTART;TZID=America/New_York:20170217T080000
DTEND;TZID=America/New_York:20170217T090000
DTSTAMP:20260424T074235
CREATED:20170215T130212Z
LAST-MODIFIED:20170215T130229Z
UID:3531-1487318400-1487322000@brevardschoolsfoundation.org
SUMMARY:Launch to Success Team Meeting
DESCRIPTION:Launch to Success Team Meeting \nSouthern Sister’s Café \n2242 Sarno Rd. \nMelbourne\, FL 32935
URL:https://brevardschoolsfoundation.org/event/launch-success-team-meeting
LOCATION:Southern Sister’s Cafe\,  2242 Sarno Rd.\, Melbourne\, FL\, 32935\, United States
CATEGORIES:Launch to Success
GEO:28.1216728;-80.6581148
X-APPLE-STRUCTURED-LOCATION;VALUE=URI;X-ADDRESS=Southern Sister’s Cafe  2242 Sarno Rd. Melbourne FL 32935 United States;X-APPLE-RADIUS=500;X-TITLE=2242 Sarno Rd.:geo:-80.6581148,28.1216728
END:VEVENT
END:VCALENDAR